BEGIN:VCALENDAR
VERSION:2.0
PRODID:-//NEPOOL - ECPv5.2.1.1//NONSGML v1.0//EN
CALSCALE:GREGORIAN
METHOD:PUBLISH
X-WR-CALNAME:NEPOOL
X-ORIGINAL-URL:https://nepool.com
X-WR-CALDESC:Events for NEPOOL
BEGIN:VTIMEZONE
TZID:America/New_York
BEGIN:DAYLIGHT
TZOFFSETFROM:-0500
TZOFFSETTO:-0400
TZNAME:EDT
DTSTART:20250309T070000
END:DAYLIGHT
BEGIN:STANDARD
TZOFFSETFROM:-0400
TZOFFSETTO:-0500
TZNAME:EST
DTSTART:20251102T060000
END:STANDARD
END:VTIMEZONE
BEGIN:VEVENT
DTSTART;TZID=America/New_York:20250227T110000
DTEND;TZID=America/New_York:20250227T163000
DTSTAMP:20260423T180804
CREATED:20241203T181356Z
LAST-MODIFIED:20250222T144758Z
UID:9050-1740654000-1740673800@nepool.com
SUMMARY:Transmission Committee Meeting
DESCRIPTION:
URL:https://nepool.com/event/transmission-committee-meeting-24/
LOCATION:Westborough\, MA – DoubleTree\, 5400 Computer Drive\, Westborough\, MA\, 01581
CATEGORIES:TC
END:VEVENT
END:VCALENDAR