BEGIN:VCALENDAR
VERSION:2.0
PRODID:-//NEPOOL - ECPv5.2.1.1//NONSGML v1.0//EN
CALSCALE:GREGORIAN
METHOD:PUBLISH
X-WR-CALNAME:NEPOOL
X-ORIGINAL-URL:https://nepool.com
X-WR-CALDESC:Events for NEPOOL
BEGIN:VTIMEZONE
TZID:America/New_York
BEGIN:DAYLIGHT
TZOFFSETFROM:-0500
TZOFFSETTO:-0400
TZNAME:EDT
DTSTART:20220313T070000
END:DAYLIGHT
BEGIN:STANDARD
TZOFFSETFROM:-0400
TZOFFSETTO:-0500
TZNAME:EST
DTSTART:20221106T060000
END:STANDARD
END:VTIMEZONE
BEGIN:VEVENT
DTSTART;TZID=America/New_York:20220928T093000
DTEND;TZID=America/New_York:20220928T120000
DTSTAMP:20260423T132520
CREATED:20211115T231431Z
LAST-MODIFIED:20220913T062253Z
UID:3872-1664357400-1664366400@nepool.com
SUMMARY:Transmission Committee
DESCRIPTION:
URL:https://nepool.com/event/transmission-committee-18/
LOCATION:WebEx / Teleconference
CATEGORIES:TC
END:VEVENT
END:VCALENDAR