BEGIN:VCALENDAR
VERSION:2.0
PRODID:-//NEPOOL - ECPv5.2.1.1//NONSGML v1.0//EN
CALSCALE:GREGORIAN
METHOD:PUBLISH
X-WR-CALNAME:NEPOOL
X-ORIGINAL-URL:https://nepool.com
X-WR-CALDESC:Events for NEPOOL
BEGIN:VTIMEZONE
TZID:America/New_York
BEGIN:DAYLIGHT
TZOFFSETFROM:-0500
TZOFFSETTO:-0400
TZNAME:EDT
DTSTART:20250309T070000
END:DAYLIGHT
BEGIN:STANDARD
TZOFFSETFROM:-0400
TZOFFSETTO:-0500
TZNAME:EST
DTSTART:20251102T060000
END:STANDARD
END:VTIMEZONE
BEGIN:VEVENT
DTSTART;TZID=America/New_York:20250715T093000
DTEND;TZID=America/New_York:20250716T163000
DTSTAMP:20260423T161341
CREATED:20250107T000839Z
LAST-MODIFIED:20250711T032327Z
UID:9265-1752571800-1752683400@nepool.com
SUMMARY:Reliability and Transmission Committee Summer Meeting
DESCRIPTION:
URL:https://nepool.com/event/reliability-and-transmission-committee-summer-meeting-7/
LOCATION:New Castle\, NH – Wentworth By The Sea\, 588 Wentworth Road\, New Castle\, NH\, 03854\, United States
CATEGORIES:RC,TC
END:VEVENT
END:VCALENDAR