BEGIN:VCALENDAR
VERSION:2.0
PRODID:-//NEPOOL - ECPv5.2.1.1//NONSGML v1.0//EN
CALSCALE:GREGORIAN
METHOD:PUBLISH
X-WR-CALNAME:NEPOOL
X-ORIGINAL-URL:https://nepool.com
X-WR-CALDESC:Events for NEPOOL
BEGIN:VTIMEZONE
TZID:America/New_York
BEGIN:DAYLIGHT
TZOFFSETFROM:-0500
TZOFFSETTO:-0400
TZNAME:EDT
DTSTART:20250309T070000
END:DAYLIGHT
BEGIN:STANDARD
TZOFFSETFROM:-0400
TZOFFSETTO:-0500
TZNAME:EST
DTSTART:20251102T060000
END:STANDARD
END:VTIMEZONE
BEGIN:VEVENT
DTSTART;TZID=America/New_York:20250501T100000
DTEND;TZID=America/New_York:20250501T143000
DTSTAMP:20260423T142607
CREATED:20250106T201859Z
LAST-MODIFIED:20250106T201859Z
UID:9220-1746093600-1746109800@nepool.com
SUMMARY:Participants Committee Meeting
DESCRIPTION:
URL:https://nepool.com/event/participants-committee-meeting-20/
LOCATION:TBD
CATEGORIES:NPC
END:VEVENT
END:VCALENDAR