BEGIN:VCALENDAR
VERSION:2.0
PRODID:-//NEPOOL - ECPv5.2.1.1//NONSGML v1.0//EN
CALSCALE:GREGORIAN
METHOD:PUBLISH
X-WR-CALNAME:NEPOOL
X-ORIGINAL-URL:https://nepool.com
X-WR-CALDESC:Events for NEPOOL
BEGIN:VTIMEZONE
TZID:America/New_York
BEGIN:DAYLIGHT
TZOFFSETFROM:-0500
TZOFFSETTO:-0400
TZNAME:EDT
DTSTART:20250309T070000
END:DAYLIGHT
BEGIN:STANDARD
TZOFFSETFROM:-0400
TZOFFSETTO:-0500
TZNAME:EST
DTSTART:20251102T060000
END:STANDARD
END:VTIMEZONE
BEGIN:VEVENT
DTSTART;TZID=America/New_York:20250627T100000
DTEND;TZID=America/New_York:20250627T120000
DTSTAMP:20260423T040659
CREATED:20250106T235341Z
LAST-MODIFIED:20250106T235341Z
UID:9256-1751018400-1751025600@nepool.com
SUMMARY:Meter Reader WG Meeting
DESCRIPTION:
URL:https://nepool.com/event/meter-reader-wg-meeting-2/
LOCATION:Teleconference
CATEGORIES:MRWG
END:VEVENT
END:VCALENDAR