BEGIN:VCALENDAR
VERSION:2.0
PRODID:-//NEPOOL - ECPv5.2.1.1//NONSGML v1.0//EN
CALSCALE:GREGORIAN
METHOD:PUBLISH
X-WR-CALNAME:NEPOOL
X-ORIGINAL-URL:https://nepool.com
X-WR-CALDESC:Events for NEPOOL
BEGIN:VTIMEZONE
TZID:America/New_York
BEGIN:DAYLIGHT
TZOFFSETFROM:-0500
TZOFFSETTO:-0400
TZNAME:EDT
DTSTART:20260308T070000
END:DAYLIGHT
BEGIN:STANDARD
TZOFFSETFROM:-0400
TZOFFSETTO:-0500
TZNAME:EST
DTSTART:20261101T060000
END:STANDARD
END:VTIMEZONE
BEGIN:VEVENT
DTSTART;TZID=America/New_York:20260112T100000
DTEND;TZID=America/New_York:20260112T110000
DTSTAMP:20260422T075949
CREATED:20260102T163821Z
LAST-MODIFIED:20260102T163821Z
UID:10511-1768212000-1768215600@nepool.com
SUMMARY:Membership Subcommittee Meeting
DESCRIPTION:
URL:https://nepool.com/event/membership-subcommittee-meeting-37/
LOCATION:Zoom
CATEGORIES:Memb
END:VEVENT
END:VCALENDAR