BEGIN:VCALENDAR
VERSION:2.0
PRODID:-//NEPOOL - ECPv5.2.1.1//NONSGML v1.0//EN
CALSCALE:GREGORIAN
METHOD:PUBLISH
X-WR-CALNAME:NEPOOL
X-ORIGINAL-URL:https://nepool.com
X-WR-CALDESC:Events for NEPOOL
BEGIN:VTIMEZONE
TZID:America/New_York
BEGIN:DAYLIGHT
TZOFFSETFROM:-0500
TZOFFSETTO:-0400
TZNAME:EDT
DTSTART:20230312T070000
END:DAYLIGHT
BEGIN:STANDARD
TZOFFSETFROM:-0400
TZOFFSETTO:-0500
TZNAME:EST
DTSTART:20231105T060000
END:STANDARD
END:VTIMEZONE
BEGIN:VEVENT
DTSTART;TZID=America/New_York:20230921T123000
DTEND;TZID=America/New_York:20230921T153000
DTSTAMP:20260425T064723
CREATED:20230905T030836Z
LAST-MODIFIED:20230905T031006Z
UID:7118-1695299400-1695310200@nepool.com
SUMMARY:CLG
DESCRIPTION:Panel topic: Ratepayer Advocates’ Role in Navigating the Clean Energy Future \nRegistration Required
URL:https://nepool.com/event/clg-2/
LOCATION:WebEx / Teleconference
CATEGORIES:General
END:VEVENT
END:VCALENDAR