BEGIN:VCALENDAR
VERSION:2.0
PRODID:-//NEPOOL - ECPv5.2.1.1//NONSGML v1.0//EN
CALSCALE:GREGORIAN
METHOD:PUBLISH
X-WR-CALNAME:NEPOOL
X-ORIGINAL-URL:https://nepool.com
X-WR-CALDESC:Events for NEPOOL
BEGIN:VTIMEZONE
TZID:America/New_York
BEGIN:DAYLIGHT
TZOFFSETFROM:-0500
TZOFFSETTO:-0400
TZNAME:EDT
DTSTART:20260308T070000
END:DAYLIGHT
BEGIN:STANDARD
TZOFFSETFROM:-0400
TZOFFSETTO:-0500
TZNAME:EST
DTSTART:20261101T060000
END:STANDARD
END:VTIMEZONE
BEGIN:VEVENT
DTSTART;TZID=America/New_York:20261217T090000
DTEND;TZID=America/New_York:20261217T163000
DTSTAMP:20260422T012552
CREATED:20260102T175618Z
LAST-MODIFIED:20260102T175618Z
UID:10632-1797498000-1797525000@nepool.com
SUMMARY:PAC Meeting
DESCRIPTION:
URL:https://nepool.com/event/pac-meeting-12/
LOCATION:WebEx
CATEGORIES:PAC
END:VEVENT
BEGIN:VEVENT
DTSTART;TZID=America/New_York:20261216T093000
DTEND;TZID=America/New_York:20261216T163000
DTSTAMP:20260422T012552
CREATED:20260102T161928Z
LAST-MODIFIED:20260102T162102Z
UID:10487-1797413400-1797438600@nepool.com
SUMMARY:Reliability Committee Meeting
DESCRIPTION:
URL:https://nepool.com/event/reliability-committee-meeting-51/
LOCATION:Westborough\, MA – DoubleTree\, 5400 Computer Drive\, Westborough\, MA\, 01581
CATEGORIES:RC
END:VEVENT
BEGIN:VEVENT
DTSTART;TZID=America/New_York:20261215T093000
DTEND;TZID=America/New_York:20261215T163000
DTSTAMP:20260422T012552
CREATED:20260102T163237Z
LAST-MODIFIED:20260102T163237Z
UID:10509-1797327000-1797352200@nepool.com
SUMMARY:Transmission Committee Meeting
DESCRIPTION:
URL:https://nepool.com/event/transmission-committee-meeting-43/
LOCATION:Westborough\, MA – DoubleTree\, 5400 Computer Drive\, Westborough\, MA\, 01581
CATEGORIES:TC
END:VEVENT
BEGIN:VEVENT
DTSTART;TZID=America/New_York:20261214T100000
DTEND;TZID=America/New_York:20261214T120000
DTSTAMP:20260422T012552
CREATED:20260102T175526Z
LAST-MODIFIED:20260102T175526Z
UID:10630-1797242400-1797249600@nepool.com
SUMMARY:NEPOOL Meter Reader Working Group Meeting
DESCRIPTION:
URL:https://nepool.com/event/nepool-meter-reader-working-group-meeting-2/
LOCATION:Teleconference
CATEGORIES:General
END:VEVENT
BEGIN:VEVENT
DTSTART;TZID=America/New_York:20261214T100000
DTEND;TZID=America/New_York:20261214T110000
DTSTAMP:20260422T012552
CREATED:20260102T164615Z
LAST-MODIFIED:20260102T164629Z
UID:10533-1797242400-1797246000@nepool.com
SUMMARY:Membership Subcommittee Meeting
DESCRIPTION:
URL:https://nepool.com/event/membership-subcommittee-meeting-48/
LOCATION:Zoom
CATEGORIES:Memb
END:VEVENT
BEGIN:VEVENT
DTSTART;TZID=America/New_York:20261211T100000
DTEND;TZID=America/New_York:20261211T120000
DTSTAMP:20260422T012552
CREATED:20260102T170610Z
LAST-MODIFIED:20260102T171001Z
UID:10561-1796983200-1796990400@nepool.com
SUMMARY:B&F Subcommittee Meeting
DESCRIPTION:
URL:https://nepool.com/event/bf-subcommittee-meeting-15/
LOCATION:Microsoft Teams
CATEGORIES:B&F
END:VEVENT
BEGIN:VEVENT
DTSTART;TZID=America/New_York:20261211T093000
DTEND;TZID=America/New_York:20261211T120000
DTSTAMP:20260422T012552
CREATED:20260102T175431Z
LAST-MODIFIED:20260102T175431Z
UID:10628-1796981400-1796990400@nepool.com
SUMMARY:NEPOOL Load Forecast Committee (LFC) Meeting
DESCRIPTION:
URL:https://nepool.com/event/nepool-load-forecast-committee-lfc-meeting-3/
LOCATION:WebEx
CATEGORIES:General
END:VEVENT
BEGIN:VEVENT
DTSTART;TZID=America/New_York:20261209T093000
DTEND;TZID=America/New_York:20261209T163000
DTSTAMP:20260422T012552
CREATED:20260102T155431Z
LAST-MODIFIED:20260102T155431Z
UID:10460-1796808600-1796833800@nepool.com
SUMMARY:Markets Committee Meeting
DESCRIPTION:
URL:https://nepool.com/event/markets-committee-meeting-71/
LOCATION:Westborough\, MA – DoubleTree\, 5400 Computer Drive\, Westborough\, MA\, 01581
CATEGORIES:MC
END:VEVENT
BEGIN:VEVENT
DTSTART;TZID=America/New_York:20261208T093000
DTEND;TZID=America/New_York:20261208T163000
DTSTAMP:20260422T012552
CREATED:20260102T155342Z
LAST-MODIFIED:20260102T155342Z
UID:10458-1796722200-1796747400@nepool.com
SUMMARY:Markets Committee Meeting
DESCRIPTION:
URL:https://nepool.com/event/markets-committee-meeting-70/
LOCATION:Westborough\, MA – DoubleTree\, 5400 Computer Drive\, Westborough\, MA\, 01581
CATEGORIES:MC
END:VEVENT
BEGIN:VEVENT
DTSTART;TZID=America/New_York:20261203T100000
DTEND;TZID=America/New_York:20261203T140000
DTSTAMP:20260422T012552
CREATED:20260102T145513Z
LAST-MODIFIED:20260418T130447Z
UID:10409-1796292000-1796306400@nepool.com
SUMMARY:Participants Committee Meeting
DESCRIPTION:
URL:https://nepool.com/event/participants-committee-meeting-34/
LOCATION:Boston\, MA – Colonnade Hotel\, 120 Huntington Avenue\, Boston\, MA\, 02116
CATEGORIES:NPC
END:VEVENT
BEGIN:VEVENT
DTSTART;TZID=America/New_York:20261202T120000
DTEND;TZID=America/New_York:20261202T153000
DTSTAMP:20260422T012552
CREATED:20260102T175315Z
LAST-MODIFIED:20260102T175315Z
UID:10626-1796212800-1796225400@nepool.com
SUMMARY:Consumer Liaison Group (CLG) Meeting
DESCRIPTION:
URL:https://nepool.com/event/consumer-liaison-group-clg-meeting-4/
LOCATION:TBD
CATEGORIES:General
END:VEVENT
BEGIN:VEVENT
DTSTART;TZID=America/New_York:20261120T100000
DTEND;TZID=America/New_York:20261120T120000
DTSTAMP:20260422T012552
CREATED:20260102T170421Z
LAST-MODIFIED:20260102T170421Z
UID:10559-1795168800-1795176000@nepool.com
SUMMARY:B&F Subcommittee Meeting
DESCRIPTION:
URL:https://nepool.com/event/bf-subcommittee-meeting-14/
LOCATION:Microsoft Teams
CATEGORIES:B&F
END:VEVENT
BEGIN:VEVENT
DTSTART;TZID=America/New_York:20261119T093000
DTEND;TZID=America/New_York:20261119T163000
DTSTAMP:20260422T012552
CREATED:20260102T163141Z
LAST-MODIFIED:20260102T163141Z
UID:10507-1795080600-1795105800@nepool.com
SUMMARY:Transmission Committee Meeting
DESCRIPTION:
URL:https://nepool.com/event/transmission-committee-meeting-42/
LOCATION:Westborough\, MA – DoubleTree\, 5400 Computer Drive\, Westborough\, MA\, 01581
CATEGORIES:TC
END:VEVENT
BEGIN:VEVENT
DTSTART;TZID=America/New_York:20261118T090000
DTEND;TZID=America/New_York:20261118T163000
DTSTAMP:20260422T012552
CREATED:20260102T175201Z
LAST-MODIFIED:20260102T175201Z
UID:10624-1794992400-1795019400@nepool.com
SUMMARY:PAC Meeting
DESCRIPTION:
URL:https://nepool.com/event/pac-meeting-11/
LOCATION:WebEx
CATEGORIES:PAC
END:VEVENT
BEGIN:VEVENT
DTSTART;TZID=America/New_York:20261117T093000
DTEND;TZID=America/New_York:20261117T163000
DTSTAMP:20260422T012552
CREATED:20260102T161836Z
LAST-MODIFIED:20260102T161836Z
UID:10485-1794907800-1794933000@nepool.com
SUMMARY:Reliability Committee Meeting
DESCRIPTION:
URL:https://nepool.com/event/reliability-committee-meeting-50/
LOCATION:Westborough\, MA – DoubleTree\, 5400 Computer Drive\, Westborough\, MA\, 01581
CATEGORIES:RC
END:VEVENT
BEGIN:VEVENT
DTSTART;TZID=America/New_York:20261113T100000
DTEND;TZID=America/New_York:20261113T110000
DTSTAMP:20260422T012552
CREATED:20260102T164542Z
LAST-MODIFIED:20260102T164542Z
UID:10531-1794564000-1794567600@nepool.com
SUMMARY:Membership Subcommittee Meeting
DESCRIPTION:
URL:https://nepool.com/event/membership-subcommittee-meeting-47/
LOCATION:Zoom
CATEGORIES:Memb
END:VEVENT
BEGIN:VEVENT
DTSTART;TZID=America/New_York:20261112T080000
DTEND;TZID=America/New_York:20261112T170000
DTSTAMP:20260422T012552
CREATED:20260102T145416Z
LAST-MODIFIED:20260102T145416Z
UID:10407-1794470400-1794502800@nepool.com
SUMMARY:Participants Committee Meeting
DESCRIPTION:
URL:https://nepool.com/event/participants-committee-meeting-33/
LOCATION:TBD
CATEGORIES:NPC
END:VEVENT
BEGIN:VEVENT
DTSTART;TZID=America/New_York:20261106T093000
DTEND;TZID=America/New_York:20261106T123000
DTSTAMP:20260422T012552
CREATED:20260102T175100Z
LAST-MODIFIED:20260102T175100Z
UID:10622-1793957400-1793968200@nepool.com
SUMMARY:NEPOOL Load Forecast Committee (LFC) Meeting
DESCRIPTION:
URL:https://nepool.com/event/nepool-load-forecast-committee-lfc-meeting-2/
LOCATION:WebEx
CATEGORIES:General
END:VEVENT
BEGIN:VEVENT
DTSTART;TZID=America/New_York:20261105T093000
DTEND;TZID=America/New_York:20261105T163000
DTSTAMP:20260422T012552
CREATED:20260102T155252Z
LAST-MODIFIED:20260102T155827Z
UID:10456-1793871000-1793896200@nepool.com
SUMMARY:Markets Committee Meeting
DESCRIPTION:
URL:https://nepool.com/event/markets-committee-meeting-69/
LOCATION:Westborough\, MA – DoubleTree\, 5400 Computer Drive\, Westborough\, MA\, 01581
CATEGORIES:MC
END:VEVENT
BEGIN:VEVENT
DTSTART;TZID=America/New_York:20261104T093000
DTEND;TZID=America/New_York:20261104T163000
DTSTAMP:20260422T012552
CREATED:20260102T155021Z
LAST-MODIFIED:20260102T155734Z
UID:10454-1793784600-1793809800@nepool.com
SUMMARY:Markets Committee Meeting
DESCRIPTION:
URL:https://nepool.com/event/markets-committee-meeting-68/
LOCATION:Westborough\, MA – DoubleTree\, 5400 Computer Drive\, Westborough\, MA\, 01581
CATEGORIES:MC
END:VEVENT
BEGIN:VEVENT
DTSTART;TZID=America/New_York:20261028T080000
DTEND;TZID=America/New_York:20261028T170000
DTSTAMP:20260422T012552
CREATED:20260102T174947Z
LAST-MODIFIED:20260102T174947Z
UID:10620-1793174400-1793206800@nepool.com
SUMMARY:Emerging Technologies Working Group Meeting
DESCRIPTION:
URL:https://nepool.com/event/emerging-technologies-working-group-meeting-7/
LOCATION:WebEx
CATEGORIES:General
END:VEVENT
BEGIN:VEVENT
DTSTART;TZID=America/New_York:20261022T090000
DTEND;TZID=America/New_York:20261022T163000
DTSTAMP:20260422T012552
CREATED:20260102T174902Z
LAST-MODIFIED:20260102T174902Z
UID:10618-1792659600-1792686600@nepool.com
SUMMARY:PAC Meeting
DESCRIPTION:
URL:https://nepool.com/event/pac-meeting-10/
LOCATION:WebEx
CATEGORIES:PAC
END:VEVENT
BEGIN:VEVENT
DTSTART;TZID=America/New_York:20261020T093000
DTEND;TZID=America/New_York:20261020T163000
DTSTAMP:20260422T012552
CREATED:20260102T161739Z
LAST-MODIFIED:20260102T161739Z
UID:10483-1792488600-1792513800@nepool.com
SUMMARY:Reliability Committee Meeting
DESCRIPTION:
URL:https://nepool.com/event/reliability-committee-meeting-49/
LOCATION:Westborough\, MA – DoubleTree\, 5400 Computer Drive\, Westborough\, MA\, 01581
CATEGORIES:RC
END:VEVENT
BEGIN:VEVENT
DTSTART;TZID=America/New_York:20261015T093000
DTEND;TZID=America/New_York:20261015T163000
DTSTAMP:20260422T012552
CREATED:20260102T180021Z
LAST-MODIFIED:20260102T180021Z
UID:10634-1792056600-1792081800@nepool.com
SUMMARY:NEPOOL Power Supply Planning Committee Meeting
DESCRIPTION:
URL:https://nepool.com/event/nepool-power-supply-planning-committee-meeting/
LOCATION:WebEx
CATEGORIES:General
END:VEVENT
BEGIN:VEVENT
DTSTART;TZID=America/New_York:20261014T093000
DTEND;TZID=America/New_York:20261014T163000
DTSTAMP:20260422T012552
CREATED:20260102T163037Z
LAST-MODIFIED:20260102T163037Z
UID:10505-1791970200-1791995400@nepool.com
SUMMARY:Transmission Committee Meeting
DESCRIPTION:
URL:https://nepool.com/event/transmission-committee-meeting-41/
LOCATION:Westborough\, MA – DoubleTree\, 5400 Computer Drive\, Westborough\, MA\, 01581
CATEGORIES:TC
END:VEVENT
BEGIN:VEVENT
DTSTART;TZID=America/New_York:20261013T100000
DTEND;TZID=America/New_York:20261013T110000
DTSTAMP:20260422T012552
CREATED:20260102T164504Z
LAST-MODIFIED:20260102T164504Z
UID:10529-1791885600-1791889200@nepool.com
SUMMARY:Membership Subcommittee Meeting
DESCRIPTION:
URL:https://nepool.com/event/membership-subcommittee-meeting-46/
CATEGORIES:Memb
END:VEVENT
BEGIN:VEVENT
DTSTART;TZID=America/New_York:20261009T100000
DTEND;TZID=America/New_York:20261009T120000
DTSTAMP:20260422T012552
CREATED:20260102T170321Z
LAST-MODIFIED:20260102T170321Z
UID:10557-1791540000-1791547200@nepool.com
SUMMARY:B&F Subcommittee Meeting
DESCRIPTION:
URL:https://nepool.com/event/bf-subcommittee-meeting-13/
LOCATION:Microsoft Teams
CATEGORIES:B&F
END:VEVENT
BEGIN:VEVENT
DTSTART;TZID=America/New_York:20261007T093000
DTEND;TZID=America/New_York:20261007T163000
DTSTAMP:20260422T012552
CREATED:20260102T154905Z
LAST-MODIFIED:20260102T154905Z
UID:10452-1791365400-1791390600@nepool.com
SUMMARY:Markets Committee Meeting
DESCRIPTION:
URL:https://nepool.com/event/markets-committee-meeting-67/
LOCATION:Westborough\, MA – DoubleTree\, 5400 Computer Drive\, Westborough\, MA\, 01581
CATEGORIES:MC
END:VEVENT
BEGIN:VEVENT
DTSTART;TZID=America/New_York:20261006T093000
DTEND;TZID=America/New_York:20261006T163000
DTSTAMP:20260422T012552
CREATED:20260102T154813Z
LAST-MODIFIED:20260102T154813Z
UID:10450-1791279000-1791304200@nepool.com
SUMMARY:Markets Committee Meeting
DESCRIPTION:
URL:https://nepool.com/event/markets-committee-meeting-66/
LOCATION:Westborough\, MA – DoubleTree\, 5400 Computer Drive\, Westborough\, MA\, 01581
CATEGORIES:MC
END:VEVENT
BEGIN:VEVENT
DTSTART;TZID=America/New_York:20261005T130000
DTEND;TZID=America/New_York:20261005T153000
DTSTAMP:20260422T012552
CREATED:20260102T182435Z
LAST-MODIFIED:20260102T182435Z
UID:10664-1791205200-1791214200@nepool.com
SUMMARY:AR Sector-ISO-NE Meeting
DESCRIPTION:
URL:https://nepool.com/event/ar-sector-iso-ne-meeting-2/
CATEGORIES:General
END:VEVENT
END:VCALENDAR