BEGIN:VCALENDAR
VERSION:2.0
PRODID:-//NEPOOL - ECPv5.2.1.1//NONSGML v1.0//EN
CALSCALE:GREGORIAN
METHOD:PUBLISH
X-WR-CALNAME:NEPOOL
X-ORIGINAL-URL:https://nepool.com
X-WR-CALDESC:Events for NEPOOL
BEGIN:VTIMEZONE
TZID:America/New_York
BEGIN:DAYLIGHT
TZOFFSETFROM:-0500
TZOFFSETTO:-0400
TZNAME:EDT
DTSTART:20260308T070000
END:DAYLIGHT
BEGIN:STANDARD
TZOFFSETFROM:-0400
TZOFFSETTO:-0500
TZNAME:EST
DTSTART:20261101T060000
END:STANDARD
END:VTIMEZONE
BEGIN:VEVENT
DTSTART;TZID=America/New_York:20261203T100000
DTEND;TZID=America/New_York:20261203T140000
DTSTAMP:20260424T044007
CREATED:20260102T145513Z
LAST-MODIFIED:20260418T130447Z
UID:10409-1796292000-1796306400@nepool.com
SUMMARY:Participants Committee Meeting
DESCRIPTION:
URL:https://nepool.com/event/participants-committee-meeting-34/
LOCATION:Boston\, MA – Colonnade Hotel\, 120 Huntington Avenue\, Boston\, MA\, 02116
CATEGORIES:NPC
END:VEVENT
BEGIN:VEVENT
DTSTART;TZID=America/New_York:20261112T080000
DTEND;TZID=America/New_York:20261112T170000
DTSTAMP:20260424T044007
CREATED:20260102T145416Z
LAST-MODIFIED:20260102T145416Z
UID:10407-1794470400-1794502800@nepool.com
SUMMARY:Participants Committee Meeting
DESCRIPTION:
URL:https://nepool.com/event/participants-committee-meeting-33/
LOCATION:TBD
CATEGORIES:NPC
END:VEVENT
BEGIN:VEVENT
DTSTART;TZID=America/New_York:20261001T100000
DTEND;TZID=America/New_York:20261001T140000
DTSTAMP:20260424T044007
CREATED:20260102T145321Z
LAST-MODIFIED:20260102T145321Z
UID:10405-1790848800-1790863200@nepool.com
SUMMARY:Participants Committee Meeting
DESCRIPTION:
URL:https://nepool.com/event/participants-committee-meeting-32/
LOCATION:TBD
CATEGORIES:NPC
END:VEVENT
BEGIN:VEVENT
DTSTART;TZID=America/New_York:20260903T100000
DTEND;TZID=America/New_York:20260903T140000
DTSTAMP:20260424T044007
CREATED:20260102T145210Z
LAST-MODIFIED:20260102T145210Z
UID:10403-1788429600-1788444000@nepool.com
SUMMARY:Participants Committee Meeting
DESCRIPTION:
URL:https://nepool.com/event/participants-committee-meeting-31/
LOCATION:TBD
CATEGORIES:NPC
END:VEVENT
BEGIN:VEVENT
DTSTART;TZID=America/New_York:20260806T100000
DTEND;TZID=America/New_York:20260806T140000
DTSTAMP:20260424T044007
CREATED:20260102T143748Z
LAST-MODIFIED:20260102T144210Z
UID:10388-1786010400-1786024800@nepool.com
SUMMARY:Participants Committee Meeting
DESCRIPTION:
URL:https://nepool.com/event/participants-committee-meeting-28/
LOCATION:TBD
CATEGORIES:NPC
END:VEVENT
BEGIN:VEVENT
DTSTART;TZID=America/New_York:20260618T083000
DTEND;TZID=America/New_York:20260618T140000
DTSTAMP:20260424T044007
CREATED:20260102T144924Z
LAST-MODIFIED:20260102T144959Z
UID:10400-1781771400-1781791200@nepool.com
SUMMARY:Participants Committee 2026 Summer Meeting
DESCRIPTION:
URL:https://nepool.com/event/participants-committee-2026-summer-meeting/
LOCATION:Newport\, RI – Newport Harbor Island Resort\, 1 Goat Island Rd\, Newport\, RI\, 02840\, United States
CATEGORIES:NPC
END:VEVENT
BEGIN:VEVENT
DTSTART;TZID=America/New_York:20260617T080000
DTEND;TZID=America/New_York:20260617T170000
DTSTAMP:20260424T044007
CREATED:20260102T144804Z
LAST-MODIFIED:20260102T144821Z
UID:10397-1781683200-1781715600@nepool.com
SUMMARY:Participants Committee 2026 Summer Meeting
DESCRIPTION:
URL:https://nepool.com/event/participants-committee-summer-meeting-9/
LOCATION:Newport\, RI – Newport Harbor Island Resort\, 1 Goat Island Rd\, Newport\, RI\, 02840\, United States
CATEGORIES:NPC
END:VEVENT
BEGIN:VEVENT
DTSTART;TZID=America/New_York:20260616T093000
DTEND;TZID=America/New_York:20260616T170000
DTSTAMP:20260424T044007
CREATED:20260102T144629Z
LAST-MODIFIED:20260102T145048Z
UID:10394-1781602200-1781629200@nepool.com
SUMMARY:Participants Committee 2026 Summer Meeting
DESCRIPTION:
URL:https://nepool.com/event/participants-committee-meeting-summer-meeting/
LOCATION:Newport\, RI – Newport Harbor Island Resort\, 1 Goat Island Rd\, Newport\, RI\, 02840\, United States
CATEGORIES:NPC
END:VEVENT
BEGIN:VEVENT
DTSTART;TZID=America/New_York:20260507T100000
DTEND;TZID=America/New_York:20260507T140000
DTSTAMP:20260424T044007
CREATED:20260102T144024Z
LAST-MODIFIED:20260228T195446Z
UID:10392-1778148000-1778162400@nepool.com
SUMMARY:Participants Committee Meeting
DESCRIPTION:
URL:https://nepool.com/event/participants-committee-meeting-30/
LOCATION:West Hartford\, CT – Delamar West Hartford Hotel\, 1 Memorial Road\, West Hartford\, CT\, 06107\, United States
CATEGORIES:NPC
END:VEVENT
BEGIN:VEVENT
DTSTART;TZID=America/New_York:20260430T090000
DTEND;TZID=America/New_York:20260430T220000
DTSTAMP:20260424T044007
CREATED:20260418T130330Z
LAST-MODIFIED:20260418T130626Z
UID:10913-1777539600-1777586400@nepool.com
SUMMARY:Participants Committee Special Meeting
DESCRIPTION:
URL:https://nepool.com/event/special-npc-meeting/
LOCATION:WebEx / Teleconference
CATEGORIES:NPC
END:VEVENT
END:VCALENDAR