BEGIN:VCALENDAR
VERSION:2.0
PRODID:-//NEPOOL - ECPv5.2.1.1//NONSGML v1.0//EN
CALSCALE:GREGORIAN
METHOD:PUBLISH
X-WR-CALNAME:NEPOOL
X-ORIGINAL-URL:https://nepool.com
X-WR-CALDESC:Events for NEPOOL
BEGIN:VTIMEZONE
TZID:America/New_York
BEGIN:DAYLIGHT
TZOFFSETFROM:-0500
TZOFFSETTO:-0400
TZNAME:EDT
DTSTART:20260308T070000
END:DAYLIGHT
BEGIN:STANDARD
TZOFFSETFROM:-0400
TZOFFSETTO:-0500
TZNAME:EST
DTSTART:20261101T060000
END:STANDARD
END:VTIMEZONE
BEGIN:VEVENT
DTSTART;TZID=America/New_York:20260205T100000
DTEND;TZID=America/New_York:20260205T120000
DTSTAMP:20260422T185433
CREATED:20260102T143532Z
LAST-MODIFIED:20260216T125405Z
UID:10384-1770285600-1770292800@nepool.com
SUMMARY:Participants Committee Meeting
DESCRIPTION:
URL:https://nepool.com/event/participants-committee-meeting-26/
LOCATION:Boston\, MA – Colonnade Hotel\, 120 Huntington Avenue\, Boston\, MA\, 02116
CATEGORIES:NPC
END:VEVENT
BEGIN:VEVENT
DTSTART;TZID=America/New_York:20260206T100000
DTEND;TZID=America/New_York:20260206T120000
DTSTAMP:20260422T185433
CREATED:20260102T165134Z
LAST-MODIFIED:20260102T165134Z
UID:10537-1770372000-1770379200@nepool.com
SUMMARY:B&F Subcommittee Meeting
DESCRIPTION:
URL:https://nepool.com/event/bf-subcommittee-meeting-3/
LOCATION:Microsoft Teams
CATEGORIES:B&F
END:VEVENT
BEGIN:VEVENT
DTSTART;TZID=America/New_York:20260209T080000
DTEND;TZID=America/New_York:20260209T170000
DTSTAMP:20260422T185433
CREATED:20260102T172249Z
LAST-MODIFIED:20260102T172249Z
UID:10573-1770624000-1770656400@nepool.com
SUMMARY:Distrib. Gen Forecast WG
DESCRIPTION:
URL:https://nepool.com/event/distrib-gen-forecast-wg/
LOCATION:WebEx / Teleconference
CATEGORIES:General
END:VEVENT
BEGIN:VEVENT
DTSTART;TZID=America/New_York:20260209T100000
DTEND;TZID=America/New_York:20260209T110000
DTSTAMP:20260422T185433
CREATED:20260102T163919Z
LAST-MODIFIED:20260102T163919Z
UID:10513-1770631200-1770634800@nepool.com
SUMMARY:Membership Subcommittee Meeting
DESCRIPTION:
URL:https://nepool.com/event/membership-subcommittee-meeting-38/
LOCATION:Zoom
CATEGORIES:Memb
END:VEVENT
BEGIN:VEVENT
DTSTART;TZID=America/New_York:20260210T093000
DTEND;TZID=America/New_York:20260210T163000
DTSTAMP:20260422T185433
CREATED:20260102T150453Z
LAST-MODIFIED:20260102T150453Z
UID:10416-1770715800-1770741000@nepool.com
SUMMARY:Markets Committee Meeting
DESCRIPTION:
URL:https://nepool.com/event/markets-committee-meeting-52/
LOCATION:Westborough\, MA – DoubleTree\, 5400 Computer Drive\, Westborough\, MA\, 01581
CATEGORIES:MC
END:VEVENT
BEGIN:VEVENT
DTSTART;TZID=America/New_York:20260211T093000
DTEND;TZID=America/New_York:20260211T163000
DTSTAMP:20260422T185433
CREATED:20260102T150815Z
LAST-MODIFIED:20260102T155605Z
UID:10418-1770802200-1770827400@nepool.com
SUMMARY:Markets Committee Meeting
DESCRIPTION:
URL:https://nepool.com/event/markets-committee-meeting-53/
LOCATION:Westborough\, MA – DoubleTree\, 5400 Computer Drive\, Westborough\, MA\, 01581
CATEGORIES:MC
END:VEVENT
BEGIN:VEVENT
DTSTART;TZID=America/New_York:20260212T093000
DTEND;TZID=America/New_York:20260212T163000
DTSTAMP:20260422T185433
CREATED:20260102T160731Z
LAST-MODIFIED:20260102T160731Z
UID:10464-1770888600-1770913800@nepool.com
SUMMARY:Reliability Committee Meeting
DESCRIPTION:
URL:https://nepool.com/event/reliability-committee-meeting-42/
LOCATION:Westborough\, MA – DoubleTree\, 5400 Computer Drive\, Westborough\, MA\, 01581
CATEGORIES:RC
END:VEVENT
BEGIN:VEVENT
DTSTART;TZID=America/New_York:20260220T093000
DTEND;TZID=America/New_York:20260220T123000
DTSTAMP:20260422T185433
CREATED:20260102T172409Z
LAST-MODIFIED:20260102T172409Z
UID:10575-1771579800-1771590600@nepool.com
SUMMARY:NEPOOL Load Forecast WG Meeting
DESCRIPTION:
URL:https://nepool.com/event/nepool-load-forecast-wg-meeting/
LOCATION:WebEx / Teleconference
CATEGORIES:General
END:VEVENT
BEGIN:VEVENT
DTSTART;TZID=America/New_York:20260224T093000
DTEND;TZID=America/New_York:20260224T163000
DTSTAMP:20260422T185433
CREATED:20260102T162325Z
LAST-MODIFIED:20260102T163325Z
UID:10491-1771925400-1771950600@nepool.com
SUMMARY:Transmission Committee Meeting
DESCRIPTION:
URL:https://nepool.com/event/transmission-committee-meeting-34/
LOCATION:Westborough\, MA – DoubleTree\, 5400 Computer Drive\, Westborough\, MA\, 01581
CATEGORIES:TC
END:VEVENT
BEGIN:VEVENT
DTSTART;TZID=America/New_York:20260225T090000
DTEND;TZID=America/New_York:20260225T163000
DTSTAMP:20260422T185433
CREATED:20260102T172153Z
LAST-MODIFIED:20260102T172153Z
UID:10570-1772010000-1772037000@nepool.com
SUMMARY:PAC Meeting
DESCRIPTION:
URL:https://nepool.com/event/pac-meeting-2/
LOCATION:WebEx / Teleconference
CATEGORIES:PAC
END:VEVENT
END:VCALENDAR